Package: gDR Version: 1.4.1 Command: /Library/Frameworks/R.framework/Resources/bin/R CMD INSTALL gDR StartedAt: 2025-03-31 18:00:19 -0400 (Mon, 31 Mar 2025) EndedAt: 2025-03-31 18:00:45 -0400 (Mon, 31 Mar 2025) EllapsedTime: 25.6 seconds RetCode: 0 Status: OK