Package: gDR Version: 1.4.1 Command: rm -rf gDR.buildbin-libdir && mkdir gDR.buildbin-libdir && /Users/biocbuild/BBS/utils/build-universal.sh gDR_1.4.1.tar.gz /Library/Frameworks/R.framework/Resources/bin/R gDR.buildbin-libdir StartedAt: 2025-04-02 14:26:24 -0400 (Wed, 02 Apr 2025) EndedAt: 2025-04-02 14:26:54 -0400 (Wed, 02 Apr 2025) EllapsedTime: 29.4 seconds RetCode: 0 Status: OK PackageFile: gDR_1.4.1.tgz PackageFileSize: 279 KiB