Package: gCrisprTools Version: 2.12.0 Command: F:\biocbuild\bbs-3.20-bioc\R\bin\R.exe CMD check --no-multiarch --install=check:gCrisprTools.install-out.txt --library=F:\biocbuild\bbs-3.20-bioc\R\library --no-vignettes --timings gCrisprTools_2.12.0.tar.gz StartedAt: 2025-03-11 01:48:30 -0400 (Tue, 11 Mar 2025) EndedAt: 2025-03-11 01:56:50 -0400 (Tue, 11 Mar 2025) EllapsedTime: 499.9 seconds RetCode: 0 Status: OK CheckDir: gCrisprTools.Rcheck Warnings: 0