Package: frmaTools Version: 1.58.0 Command: F:\biocbuild\bbs-3.20-bioc\R\bin\R.exe CMD check --no-multiarch --install=check:frmaTools.install-out.txt --library=F:\biocbuild\bbs-3.20-bioc\R\library --no-vignettes --timings frmaTools_1.58.0.tar.gz StartedAt: 2025-04-01 01:40:53 -0400 (Tue, 01 Apr 2025) EndedAt: 2025-04-01 01:41:40 -0400 (Tue, 01 Apr 2025) EllapsedTime: 47.2 seconds RetCode: 0 Status: OK CheckDir: frmaTools.Rcheck Warnings: 0