Package: frmaTools Version: 1.58.0 Command: /Library/Frameworks/R.framework/Resources/bin/R CMD build --keep-empty-dirs --no-resave-data frmaTools StartedAt: 2025-03-31 18:48:45 -0400 (Mon, 31 Mar 2025) EndedAt: 2025-03-31 18:49:18 -0400 (Mon, 31 Mar 2025) EllapsedTime: 32.9 seconds RetCode: 0 Status: OK PackageFile: frmaTools_1.58.0.tar.gz PackageFileSize: 157.4 KiB