Package: frma Version: 1.58.0 Command: /Library/Frameworks/R.framework/Resources/bin/R CMD check --install=check:frma.install-out.txt --library=/Library/Frameworks/R.framework/Resources/library --no-vignettes --timings frma_1.58.0.tar.gz StartedAt: 2025-04-01 03:11:51 -0400 (Tue, 01 Apr 2025) EndedAt: 2025-04-01 03:18:31 -0400 (Tue, 01 Apr 2025) EllapsedTime: 400.1 seconds RetCode: 0 Status: OK CheckDir: frma.Rcheck Warnings: 0