Package: frenchFISH Version: 1.18.0 Command: /Library/Frameworks/R.framework/Resources/bin/R CMD build --keep-empty-dirs --no-resave-data frenchFISH StartedAt: 2025-03-31 23:42:37 -0400 (Mon, 31 Mar 2025) EndedAt: 2025-03-31 23:42:45 -0400 (Mon, 31 Mar 2025) EllapsedTime: 7.9 seconds RetCode: 0 Status: OK PackageFile: frenchFISH_1.18.0.tar.gz PackageFileSize: 20.93 KiB