Package: fobitools Version: 1.14.0 Command: /Library/Frameworks/R.framework/Resources/bin/R CMD build --keep-empty-dirs --no-resave-data fobitools StartedAt: 2025-03-31 18:48:23 -0400 (Mon, 31 Mar 2025) EndedAt: 2025-03-31 18:51:31 -0400 (Mon, 31 Mar 2025) EllapsedTime: 187.6 seconds RetCode: 0 Status: OK PackageFile: fobitools_1.14.0.tar.gz PackageFileSize: 4.802 MiB