Package: fobitools Version: 1.14.0 Command: /Library/Frameworks/R.framework/Resources/bin/R CMD build --keep-empty-dirs --no-resave-data fobitools StartedAt: 2025-03-31 23:42:01 -0400 (Mon, 31 Mar 2025) EndedAt: 2025-03-31 23:44:09 -0400 (Mon, 31 Mar 2025) EllapsedTime: 127.6 seconds RetCode: 0 Status: OK PackageFile: fobitools_1.14.0.tar.gz PackageFileSize: 4.76 MiB