Package: fmrs Version: 1.16.0 Command: /Library/Frameworks/R.framework/Resources/bin/R CMD INSTALL fmrs StartedAt: 2025-03-31 16:06:28 -0400 (Mon, 31 Mar 2025) EndedAt: 2025-03-31 16:06:49 -0400 (Mon, 31 Mar 2025) EllapsedTime: 20.4 seconds RetCode: 0 Status: OK