Package: fmrs Version: 1.16.0 Command: rm -rf fmrs.buildbin-libdir && mkdir fmrs.buildbin-libdir && /Users/biocbuild/BBS/utils/build-universal.sh fmrs_1.16.0.tar.gz /Library/Frameworks/R.framework/Resources/bin/R fmrs.buildbin-libdir StartedAt: 2025-04-01 11:54:10 -0400 (Tue, 01 Apr 2025) EndedAt: 2025-04-01 11:54:34 -0400 (Tue, 01 Apr 2025) EllapsedTime: 23.7 seconds RetCode: 0 Status: OK PackageFile: fmrs_1.16.0.tgz PackageFileSize: 211.3 KiB