Package: flowcatchR Version: 1.40.0 Command: rm -rf flowcatchR.buildbin-libdir && mkdir flowcatchR.buildbin-libdir && F:\biocbuild\bbs-3.20-bioc\R\bin\R.exe CMD INSTALL --build --library=flowcatchR.buildbin-libdir flowcatchR_1.40.0.tar.gz StartedAt: 2025-04-01 08:12:17 -0400 (Tue, 01 Apr 2025) EndedAt: 2025-04-01 08:13:10 -0400 (Tue, 01 Apr 2025) EllapsedTime: 53.1 seconds RetCode: 0 Status: OK PackageFile: flowcatchR_1.40.0.zip PackageFileSize: 7.639 MiB