Package: flowcatchR Version: 1.40.0 Command: /Library/Frameworks/R.framework/Resources/bin/R CMD INSTALL flowcatchR StartedAt: 2025-03-31 16:48:01 -0400 (Mon, 31 Mar 2025) EndedAt: 2025-03-31 16:48:13 -0400 (Mon, 31 Mar 2025) EllapsedTime: 11.6 seconds RetCode: 0 Status: OK