Package: flowWorkspace Version: 4.18.1 Command: rm -rf flowWorkspace.buildbin-libdir && mkdir flowWorkspace.buildbin-libdir && /Users/biocbuild/BBS/utils/build-universal.sh flowWorkspace_4.18.1.tar.gz /Library/Frameworks/R.framework/Resources/bin/R flowWorkspace.buildbin-libdir StartedAt: 2025-04-01 11:54:04 -0400 (Tue, 01 Apr 2025) EndedAt: 2025-04-01 11:58:37 -0400 (Tue, 01 Apr 2025) EllapsedTime: 273.2 seconds RetCode: 0 Status: OK PackageFile: flowWorkspace_4.18.1.tgz PackageFileSize: 6.264 MiB