Package: flowViz Version: 1.70.0 Command: /home/biocbuild/R/R/bin/R CMD INSTALL flowViz StartedAt: 2025-03-31 20:23:34 -0000 (Mon, 31 Mar 2025) EndedAt: 2025-03-31 20:23:48 -0000 (Mon, 31 Mar 2025) EllapsedTime: 14.1 seconds RetCode: 0 Status: OK