Package: flowVS Version: 1.38.0 Command: /home/biocbuild/R/R/bin/R CMD check --install=check:flowVS.install-out.txt --library=/home/biocbuild/R/R/site-library --no-vignettes --timings flowVS_1.38.0.tar.gz StartedAt: 2025-04-01 06:35:41 -0000 (Tue, 01 Apr 2025) EndedAt: 2025-04-01 06:38:03 -0000 (Tue, 01 Apr 2025) EllapsedTime: 142.2 seconds RetCode: 0 Status: OK CheckDir: flowVS.Rcheck Warnings: 0