Package: flowVS Version: 1.38.0 Command: /home/biocbuild/bbs-3.20-bioc/R/bin/R CMD build --keep-empty-dirs --no-resave-data --md5 flowVS StartedAt: 2025-03-31 17:18:12 -0400 (Mon, 31 Mar 2025) EndedAt: 2025-03-31 17:20:09 -0400 (Mon, 31 Mar 2025) EllapsedTime: 116.2 seconds RetCode: 0 Status: OK PackageFile: flowVS_1.38.0.tar.gz PackageFileSize: 3.7 MiB