Package: flowTrans Version: 1.58.0 Command: rm -rf flowTrans.buildbin-libdir && mkdir flowTrans.buildbin-libdir && /Users/biocbuild/BBS/utils/build-universal.sh flowTrans_1.58.0.tar.gz /Library/Frameworks/R.framework/Resources/bin/R flowTrans.buildbin-libdir StartedAt: 2025-04-01 11:54:01 -0400 (Tue, 01 Apr 2025) EndedAt: 2025-04-01 11:54:21 -0400 (Tue, 01 Apr 2025) EllapsedTime: 19.8 seconds RetCode: 0 Status: OK PackageFile: flowTrans_1.58.0.tgz PackageFileSize: 523.5 KiB