Package: flowTrans Version: 1.58.0 Command: /Library/Frameworks/R.framework/Resources/bin/R CMD INSTALL flowTrans StartedAt: 2025-03-31 15:17:06 -0400 (Mon, 31 Mar 2025) EndedAt: 2025-03-31 15:17:15 -0400 (Mon, 31 Mar 2025) EllapsedTime: 9.1 seconds RetCode: 0 Status: OK