Package: flowTrans Version: 1.58.0 Command: rm -rf flowTrans.buildbin-libdir && mkdir flowTrans.buildbin-libdir && /Users/biocbuild/BBS/utils/build-universal.sh flowTrans_1.58.0.tar.gz /Library/Frameworks/R.framework/Resources/bin/R flowTrans.buildbin-libdir StartedAt: 2025-04-02 14:23:42 -0400 (Wed, 02 Apr 2025) EndedAt: 2025-04-02 14:23:54 -0400 (Wed, 02 Apr 2025) EllapsedTime: 11.4 seconds RetCode: 0 Status: OK PackageFile: flowTrans_1.58.0.tgz PackageFileSize: 523.6 KiB