Package: flowTime Version: 1.30.0 Command: /Library/Frameworks/R.framework/Resources/bin/R CMD INSTALL flowTime StartedAt: 2025-03-31 15:19:34 -0400 (Mon, 31 Mar 2025) EndedAt: 2025-03-31 15:19:56 -0400 (Mon, 31 Mar 2025) EllapsedTime: 22.0 seconds RetCode: 0 Status: OK