Package: flowTime Version: 1.30.0 Command: /Library/Frameworks/R.framework/Resources/bin/R CMD build --keep-empty-dirs --no-resave-data flowTime StartedAt: 2025-03-31 18:47:41 -0400 (Mon, 31 Mar 2025) EndedAt: 2025-03-31 18:48:55 -0400 (Mon, 31 Mar 2025) EllapsedTime: 73.8 seconds RetCode: 0 Status: OK PackageFile: flowTime_1.30.0.tar.gz PackageFileSize: 2.596 MiB