Package: flowStats Version: 4.18.0 Command: /home/biocbuild/R/R/bin/R CMD check --install=check:flowStats.install-out.txt --library=/home/biocbuild/R/R/site-library --no-vignettes --timings flowStats_4.18.0.tar.gz StartedAt: 2025-04-01 06:35:01 -0000 (Tue, 01 Apr 2025) EndedAt: 2025-04-01 06:38:37 -0000 (Tue, 01 Apr 2025) EllapsedTime: 215.3 seconds RetCode: 0 Status: WARNINGS CheckDir: flowStats.Rcheck Warnings: 4