Package: flowStats Version: 4.18.0 Command: F:\biocbuild\bbs-3.20-bioc\R\bin\R.exe CMD check --no-multiarch --install=check:flowStats.install-out.txt --library=F:\biocbuild\bbs-3.20-bioc\R\library --no-vignettes --timings flowStats_4.18.0.tar.gz StartedAt: 2025-04-01 01:39:09 -0400 (Tue, 01 Apr 2025) EndedAt: 2025-04-01 01:42:47 -0400 (Tue, 01 Apr 2025) EllapsedTime: 217.9 seconds RetCode: 0 Status: WARNINGS CheckDir: flowStats.Rcheck Warnings: 4