Package: flowStats Version: 4.18.0 Command: chmod a+r flowStats -R && F:\biocbuild\bbs-3.20-bioc\R\bin\R.exe CMD build --keep-empty-dirs --no-resave-data flowStats StartedAt: 2025-03-31 19:02:02 -0400 (Mon, 31 Mar 2025) EndedAt: 2025-03-31 19:04:06 -0400 (Mon, 31 Mar 2025) EllapsedTime: 124.4 seconds RetCode: 0 Status: OK PackageFile: flowStats_4.18.0.tar.gz PackageFileSize: 10.96 MiB