Package: flowStats Version: 4.18.0 Command: /home/biocbuild/bbs-3.20-bioc/R/bin/R CMD INSTALL flowStats StartedAt: 2025-03-31 16:01:44 -0400 (Mon, 31 Mar 2025) EndedAt: 2025-03-31 16:02:07 -0400 (Mon, 31 Mar 2025) EllapsedTime: 23.6 seconds RetCode: 0 Status: OK