Package: flowStats Version: 4.18.0 Command: /Library/Frameworks/R.framework/Resources/bin/R CMD build --keep-empty-dirs --no-resave-data flowStats StartedAt: 2025-03-31 23:39:58 -0400 (Mon, 31 Mar 2025) EndedAt: 2025-03-31 23:42:01 -0400 (Mon, 31 Mar 2025) EllapsedTime: 123.0 seconds RetCode: 0 Status: OK PackageFile: flowStats_4.18.0.tar.gz PackageFileSize: 10.97 MiB