Package: flowPloidy Version: 1.32.0 Command: rm -rf flowPloidy.buildbin-libdir && mkdir flowPloidy.buildbin-libdir && F:\biocbuild\bbs-3.20-bioc\R\bin\R.exe CMD INSTALL --build --library=flowPloidy.buildbin-libdir flowPloidy_1.32.0.tar.gz StartedAt: 2025-04-01 08:12:51 -0400 (Tue, 01 Apr 2025) EndedAt: 2025-04-01 08:14:09 -0400 (Tue, 01 Apr 2025) EllapsedTime: 78.4 seconds RetCode: 0 Status: OK PackageFile: flowPloidy_1.32.0.zip PackageFileSize: 1.66 MiB