Package: flowPloidy Version: 1.32.0 Command: /Library/Frameworks/R.framework/Resources/bin/R CMD build --keep-empty-dirs --no-resave-data flowPloidy StartedAt: 2025-03-31 18:47:04 -0400 (Mon, 31 Mar 2025) EndedAt: 2025-03-31 18:48:10 -0400 (Mon, 31 Mar 2025) EllapsedTime: 65.6 seconds RetCode: 0 Status: OK PackageFile: flowPloidy_1.32.0.tar.gz PackageFileSize: 2.332 MiB