Package: flowMerge Version: 2.54.0 Command: /Library/Frameworks/R.framework/Resources/bin/R CMD INSTALL flowMerge StartedAt: 2025-03-31 15:19:00 -0400 (Mon, 31 Mar 2025) EndedAt: 2025-03-31 15:19:25 -0400 (Mon, 31 Mar 2025) EllapsedTime: 25.7 seconds RetCode: 0 Status: OK