Package: flowMerge Version: 2.54.0 Command: /Library/Frameworks/R.framework/Resources/bin/R CMD build --keep-empty-dirs --no-resave-data flowMerge StartedAt: 2025-03-31 23:38:54 -0400 (Mon, 31 Mar 2025) EndedAt: 2025-03-31 23:39:49 -0400 (Mon, 31 Mar 2025) EllapsedTime: 55.3 seconds RetCode: 0 Status: OK PackageFile: flowMerge_2.54.0.tar.gz PackageFileSize: 630.7 KiB