Package: flowGraph Version: 1.14.0 Command: F:\biocbuild\bbs-3.20-bioc\R\bin\R.exe CMD INSTALL flowGraph StartedAt: 2025-03-31 15:58:29 -0400 (Mon, 31 Mar 2025) EndedAt: 2025-03-31 15:59:13 -0400 (Mon, 31 Mar 2025) EllapsedTime: 43.7 seconds RetCode: 0 Status: OK