Package: flowGraph Version: 1.14.0 Command: /Library/Frameworks/R.framework/Resources/bin/R CMD build --keep-empty-dirs --no-resave-data flowGraph StartedAt: 2025-03-31 23:38:38 -0400 (Mon, 31 Mar 2025) EndedAt: 2025-03-31 23:39:21 -0400 (Mon, 31 Mar 2025) EllapsedTime: 43.3 seconds RetCode: 0 Status: OK PackageFile: flowGraph_1.14.0.tar.gz PackageFileSize: 2.079 MiB