Package: flowFP Version: 1.64.0 Command: F:\biocbuild\bbs-3.20-bioc\R\bin\R.exe CMD INSTALL flowFP StartedAt: 2025-03-31 15:39:12 -0400 (Mon, 31 Mar 2025) EndedAt: 2025-03-31 15:39:49 -0400 (Mon, 31 Mar 2025) EllapsedTime: 37.6 seconds RetCode: 0 Status: OK