Package: flowClust Version: 3.44.0 Command: F:\biocbuild\bbs-3.20-bioc\R\bin\R.exe CMD check --no-multiarch --install=check:flowClust.install-out.txt --library=F:\biocbuild\bbs-3.20-bioc\R\library --no-vignettes --timings flowClust_3.44.0.tar.gz StartedAt: 2025-04-01 01:36:26 -0400 (Tue, 01 Apr 2025) EndedAt: 2025-04-01 01:43:02 -0400 (Tue, 01 Apr 2025) EllapsedTime: 396.7 seconds RetCode: 0 Status: WARNINGS CheckDir: flowClust.Rcheck Warnings: 1