Package: flowClust Version: 3.44.0 Command: rm -rf flowClust.buildbin-libdir && mkdir flowClust.buildbin-libdir && F:\biocbuild\bbs-3.20-bioc\R\bin\R.exe CMD INSTALL --build --library=flowClust.buildbin-libdir flowClust_3.44.0.tar.gz StartedAt: 2025-04-01 08:12:23 -0400 (Tue, 01 Apr 2025) EndedAt: 2025-04-01 08:13:12 -0400 (Tue, 01 Apr 2025) EllapsedTime: 49.4 seconds RetCode: 0 Status: OK PackageFile: flowClust_3.44.0.zip PackageFileSize: 843.5 KiB