Package: flowClust Version: 3.44.0 Command: /Library/Frameworks/R.framework/Resources/bin/R CMD check --install=check:flowClust.install-out.txt --library=/Library/Frameworks/R.framework/Resources/library --no-vignettes --timings flowClust_3.44.0.tar.gz StartedAt: 2025-04-01 03:05:39 -0400 (Tue, 01 Apr 2025) EndedAt: 2025-04-01 03:14:03 -0400 (Tue, 01 Apr 2025) EllapsedTime: 503.4 seconds RetCode: 0 Status: WARNINGS CheckDir: flowClust.Rcheck Warnings: 2