Package: flowClean Version: 1.44.0 Command: F:\biocbuild\bbs-3.20-bioc\R\bin\R.exe CMD check --no-multiarch --install=check:flowClean.install-out.txt --library=F:\biocbuild\bbs-3.20-bioc\R\library --no-vignettes --timings flowClean_1.44.0.tar.gz StartedAt: 2025-04-01 01:36:17 -0400 (Tue, 01 Apr 2025) EndedAt: 2025-04-01 01:37:44 -0400 (Tue, 01 Apr 2025) EllapsedTime: 86.8 seconds RetCode: 0 Status: WARNINGS CheckDir: flowClean.Rcheck Warnings: 3