Package: flowClean Version: 1.44.0 Command: chmod a+r flowClean -R && F:\biocbuild\bbs-3.20-bioc\R\bin\R.exe CMD build --keep-empty-dirs --no-resave-data flowClean StartedAt: 2025-03-31 18:58:29 -0400 (Mon, 31 Mar 2025) EndedAt: 2025-03-31 19:06:12 -0400 (Mon, 31 Mar 2025) EllapsedTime: 462.5 seconds RetCode: 0 Status: OK PackageFile: flowClean_1.44.0.tar.gz PackageFileSize: 4.59 MiB