Package: flowClean Version: 1.44.0 Command: rm -rf flowClean.buildbin-libdir && mkdir flowClean.buildbin-libdir && F:\biocbuild\bbs-3.20-bioc\R\bin\R.exe CMD INSTALL --build --library=flowClean.buildbin-libdir flowClean_1.44.0.tar.gz StartedAt: 2025-04-01 08:12:21 -0400 (Tue, 01 Apr 2025) EndedAt: 2025-04-01 08:12:35 -0400 (Tue, 01 Apr 2025) EllapsedTime: 14.1 seconds RetCode: 0 Status: OK PackageFile: flowClean_1.44.0.zip PackageFileSize: 4.629 MiB