Package: flowClean Version: 1.44.0 Command: /Library/Frameworks/R.framework/Resources/bin/R CMD check --install=check:flowClean.install-out.txt --library=/Library/Frameworks/R.framework/Resources/library --no-vignettes --timings flowClean_1.44.0.tar.gz StartedAt: 2025-04-01 03:05:13 -0400 (Tue, 01 Apr 2025) EndedAt: 2025-04-01 03:07:42 -0400 (Tue, 01 Apr 2025) EllapsedTime: 149.0 seconds RetCode: 0 Status: WARNINGS CheckDir: flowClean.Rcheck Warnings: 3