Package: flowBin Version: 1.42.0 Command: /home/biocbuild/R/R/bin/R CMD build --keep-empty-dirs --no-resave-data flowBin StartedAt: 2025-03-31 23:31:21 -0000 (Mon, 31 Mar 2025) EndedAt: 2025-03-31 23:31:53 -0000 (Mon, 31 Mar 2025) EllapsedTime: 32.0 seconds RetCode: 0 Status: OK PackageFile: flowBin_1.42.0.tar.gz PackageFileSize: 567.7 KiB