Package: flowBin Version: 1.42.0 Command: /home/biocbuild/bbs-3.20-bioc/R/bin/R CMD check --install=check:flowBin.install-out.txt --library=/home/biocbuild/bbs-3.20-bioc/R/site-library --timings flowBin_1.42.0.tar.gz StartedAt: 2025-03-31 22:12:23 -0400 (Mon, 31 Mar 2025) EndedAt: 2025-03-31 22:13:48 -0400 (Mon, 31 Mar 2025) EllapsedTime: 85.1 seconds RetCode: 0 Status: OK CheckDir: flowBin.Rcheck Warnings: 0