Package: flowBin Version: 1.42.0 Command: /Library/Frameworks/R.framework/Resources/bin/R CMD build --keep-empty-dirs --no-resave-data flowBin StartedAt: 2025-03-31 18:45:05 -0400 (Mon, 31 Mar 2025) EndedAt: 2025-03-31 18:46:07 -0400 (Mon, 31 Mar 2025) EllapsedTime: 61.3 seconds RetCode: 0 Status: OK PackageFile: flowBin_1.42.0.tar.gz PackageFileSize: 575.2 KiB