Package: flagme Version: 1.62.0 Command: /home/biocbuild/R/R/bin/R CMD build --keep-empty-dirs --no-resave-data flagme StartedAt: 2025-03-31 23:31:04 -0000 (Mon, 31 Mar 2025) EndedAt: 2025-03-31 23:34:57 -0000 (Mon, 31 Mar 2025) EllapsedTime: 233.2 seconds RetCode: 0 Status: OK PackageFile: flagme_1.62.0.tar.gz PackageFileSize: 702.2 KiB