Package: flagme Version: 1.62.0 Command: /Library/Frameworks/R.framework/Resources/bin/R CMD check --install=check:flagme.install-out.txt --library=/Library/Frameworks/R.framework/Resources/library --no-vignettes --timings flagme_1.62.0.tar.gz StartedAt: 2025-04-01 03:03:22 -0400 (Tue, 01 Apr 2025) EndedAt: 2025-04-01 03:29:02 -0400 (Tue, 01 Apr 2025) EllapsedTime: 1540.1 seconds RetCode: 0 Status: WARNINGS CheckDir: flagme.Rcheck Warnings: 2