Package: flagme Version: 1.62.0 Command: /Library/Frameworks/R.framework/Resources/bin/R CMD build --keep-empty-dirs --no-resave-data flagme StartedAt: 2025-03-31 23:32:15 -0400 (Mon, 31 Mar 2025) EndedAt: 2025-03-31 23:36:26 -0400 (Mon, 31 Mar 2025) EllapsedTime: 251.4 seconds RetCode: 0 Status: OK PackageFile: flagme_1.62.0.tar.gz PackageFileSize: 726.3 KiB