Package: fishpond Version: 2.12.0 Command: F:\biocbuild\bbs-3.20-bioc\R\bin\R.exe CMD INSTALL fishpond StartedAt: 2025-03-31 16:00:30 -0400 (Mon, 31 Mar 2025) EndedAt: 2025-03-31 16:01:13 -0400 (Mon, 31 Mar 2025) EllapsedTime: 42.6 seconds RetCode: 0 Status: OK