Package: fishpond Version: 2.12.0 Command: F:\biocbuild\bbs-3.20-bioc\R\bin\R.exe CMD check --no-multiarch --install=check:fishpond.install-out.txt --library=F:\biocbuild\bbs-3.20-bioc\R\library --no-vignettes --timings fishpond_2.12.0.tar.gz StartedAt: 2025-04-01 01:34:02 -0400 (Tue, 01 Apr 2025) EndedAt: 2025-04-01 01:38:36 -0400 (Tue, 01 Apr 2025) EllapsedTime: 274.1 seconds RetCode: 0 Status: OK CheckDir: fishpond.Rcheck Warnings: 0