Package: findIPs Version: 1.2.0 Command: /Library/Frameworks/R.framework/Resources/bin/R CMD check --install=check:findIPs.install-out.txt --library=/Library/Frameworks/R.framework/Resources/library --no-vignettes --timings findIPs_1.2.0.tar.gz StartedAt: 2025-04-01 19:14:03 -0400 (Tue, 01 Apr 2025) EndedAt: 2025-04-01 19:20:37 -0400 (Tue, 01 Apr 2025) EllapsedTime: 393.1 seconds RetCode: 0 Status: OK CheckDir: findIPs.Rcheck Warnings: 0